BEGIN:VCALENDAR
VERSION:2.0
PRODID:-//Music Valley Cowboy Church - ECPv6.15.20//NONSGML v1.0//EN
CALSCALE:GREGORIAN
METHOD:PUBLISH
X-WR-CALNAME:Music Valley Cowboy Church
X-ORIGINAL-URL:https://musicvalleycowboychurch.com
X-WR-CALDESC:Events for Music Valley Cowboy Church
REFRESH-INTERVAL;VALUE=DURATION:PT1H
X-Robots-Tag:noindex
X-PUBLISHED-TTL:PT1H
BEGIN:VTIMEZONE
TZID:America/Chicago
BEGIN:DAYLIGHT
TZOFFSETFROM:-0600
TZOFFSETTO:-0500
TZNAME:CDT
DTSTART:20240310T080000
END:DAYLIGHT
BEGIN:STANDARD
TZOFFSETFROM:-0500
TZOFFSETTO:-0600
TZNAME:CST
DTSTART:20241103T070000
END:STANDARD
BEGIN:DAYLIGHT
TZOFFSETFROM:-0600
TZOFFSETTO:-0500
TZNAME:CDT
DTSTART:20250309T080000
END:DAYLIGHT
BEGIN:STANDARD
TZOFFSETFROM:-0500
TZOFFSETTO:-0600
TZNAME:CST
DTSTART:20251102T070000
END:STANDARD
BEGIN:DAYLIGHT
TZOFFSETFROM:-0600
TZOFFSETTO:-0500
TZNAME:CDT
DTSTART:20260308T080000
END:DAYLIGHT
BEGIN:STANDARD
TZOFFSETFROM:-0500
TZOFFSETTO:-0600
TZNAME:CST
DTSTART:20261101T070000
END:STANDARD
END:VTIMEZONE
BEGIN:VEVENT
DTSTART;VALUE=DATE:20251026
DTEND;VALUE=DATE:20251027
DTSTAMP:20260420T164736
CREATED:20250901T000758Z
LAST-MODIFIED:20250911T203335Z
UID:1105-1761436800-1761523199@musicvalleycowboychurch.com
SUMMARY:Irish Tour: Featuring Robert Mizzell & David Timms
DESCRIPTION:
URL:https://musicvalleycowboychurch.com/event/david-timms/
LOCATION:Music Valley Cowboy Church\, 2416 MUSIC VALLEY DRIVE\, Nashville\, TN\, 37214\, United States
END:VEVENT
BEGIN:VEVENT
DTSTART;TZID=America/Chicago:20251019T100000
DTEND;TZID=America/Chicago:20251019T113000
DTSTAMP:20260420T164736
CREATED:20250716T140301Z
LAST-MODIFIED:20251018T143445Z
UID:1093-1760868000-1760873400@musicvalleycowboychurch.com
SUMMARY:Dedication service for Bob Bayliss our MVCC  Sheriff and Marshal: with Vicki Lynn & Fred Winston
DESCRIPTION:
URL:https://musicvalleycowboychurch.com/event/irish-tour-featuring-robert-mizzell/
LOCATION:Music Valley Cowboy Church\, 2416 MUSIC VALLEY DRIVE\, Nashville\, TN\, 37214\, United States
END:VEVENT
BEGIN:VEVENT
DTSTART;TZID=America/Chicago:20251012T100000
DTEND;TZID=America/Chicago:20251012T113000
DTSTAMP:20260420T164736
CREATED:20250716T140200Z
LAST-MODIFIED:20250911T203449Z
UID:1091-1760263200-1760268600@musicvalleycowboychurch.com
SUMMARY:Irish Tour: Featuring Collin Elliott & Misa Tours
DESCRIPTION:
URL:https://musicvalleycowboychurch.com/event/irish-tour-featuring-collin-elliott-claire-cunningham/
LOCATION:Music Valley Cowboy Church\, 2416 MUSIC VALLEY DRIVE\, Nashville\, TN\, 37214\, United States
END:VEVENT
BEGIN:VEVENT
DTSTART;TZID=America/Chicago:20251005T100000
DTEND;TZID=America/Chicago:20251005T113000
DTSTAMP:20260420T164736
CREATED:20250716T140006Z
LAST-MODIFIED:20250716T140006Z
UID:1089-1759658400-1759663800@musicvalleycowboychurch.com
SUMMARY:Blood Bought
DESCRIPTION:
URL:https://musicvalleycowboychurch.com/event/blood-bought/
LOCATION:Music Valley Cowboy Church\, 2416 MUSIC VALLEY DRIVE\, Nashville\, TN\, 37214\, United States
END:VEVENT
BEGIN:VEVENT
DTSTART;TZID=America/Chicago:20250928T100000
DTEND;TZID=America/Chicago:20250928T113000
DTSTAMP:20260420T164736
CREATED:20250716T135934Z
LAST-MODIFIED:20250716T135934Z
UID:1087-1759053600-1759059000@musicvalleycowboychurch.com
SUMMARY:Danny Jones
DESCRIPTION:
URL:https://musicvalleycowboychurch.com/event/danny-jones/
LOCATION:Music Valley Cowboy Church\, 2416 MUSIC VALLEY DRIVE\, Nashville\, TN\, 37214\, United States
END:VEVENT
BEGIN:VEVENT
DTSTART;TZID=America/Chicago:20250921T100000
DTEND;TZID=America/Chicago:20250921T113000
DTSTAMP:20260420T164736
CREATED:20250716T135844Z
LAST-MODIFIED:20250716T135844Z
UID:1085-1758448800-1758454200@musicvalleycowboychurch.com
SUMMARY:Vicki Lynn
DESCRIPTION:
URL:https://musicvalleycowboychurch.com/event/vicki-lynn/
LOCATION:Music Valley Cowboy Church\, 2416 MUSIC VALLEY DRIVE\, Nashville\, TN\, 37214\, United States
END:VEVENT
BEGIN:VEVENT
DTSTART;TZID=America/Chicago:20250914T100000
DTEND;TZID=America/Chicago:20250914T113000
DTSTAMP:20260420T164736
CREATED:20250825T224925Z
LAST-MODIFIED:20250901T001535Z
UID:1102-1757844000-1757849400@musicvalleycowboychurch.com
SUMMARY:Ms. Lillie Knauls
DESCRIPTION:
URL:https://musicvalleycowboychurch.com/event/ms-lillie-knauls/
LOCATION:Music Valley Cowboy Church\, 2416 MUSIC VALLEY DRIVE\, Nashville\, TN\, 37214\, United States
END:VEVENT
BEGIN:VEVENT
DTSTART;TZID=America/Chicago:20250907T100000
DTEND;TZID=America/Chicago:20250907T113000
DTSTAMP:20260420T164736
CREATED:20250716T135807Z
LAST-MODIFIED:20250716T135807Z
UID:1083-1757239200-1757244600@musicvalleycowboychurch.com
SUMMARY:Randy Finchum
DESCRIPTION:
URL:https://musicvalleycowboychurch.com/event/randy-finchum/
LOCATION:Music Valley Cowboy Church\, 2416 MUSIC VALLEY DRIVE\, Nashville\, TN\, 37214\, United States
END:VEVENT
BEGIN:VEVENT
DTSTART;TZID=America/Chicago:20250831T100000
DTEND;TZID=America/Chicago:20250831T113000
DTSTAMP:20260420T164736
CREATED:20250716T135728Z
LAST-MODIFIED:20250825T224822Z
UID:1081-1756634400-1756639800@musicvalleycowboychurch.com
SUMMARY:Joe Rucker
DESCRIPTION:
URL:https://musicvalleycowboychurch.com/event/jamie-snd-rebecca-bagwell/
LOCATION:Music Valley Cowboy Church\, 2416 MUSIC VALLEY DRIVE\, Nashville\, TN\, 37214\, United States
END:VEVENT
BEGIN:VEVENT
DTSTART;TZID=America/Chicago:20250817T100000
DTEND;TZID=America/Chicago:20250817T113000
DTSTAMP:20260420T164736
CREATED:20250716T135643Z
LAST-MODIFIED:20250716T135643Z
UID:1079-1755424800-1755430200@musicvalleycowboychurch.com
SUMMARY:Paula Slow
DESCRIPTION:
URL:https://musicvalleycowboychurch.com/event/paula-slow/
LOCATION:Music Valley Cowboy Church\, 2416 MUSIC VALLEY DRIVE\, Nashville\, TN\, 37214\, United States
END:VEVENT
BEGIN:VEVENT
DTSTART;TZID=America/Chicago:20250810T100000
DTEND;TZID=America/Chicago:20250810T113000
DTSTAMP:20260420T164736
CREATED:20250716T135601Z
LAST-MODIFIED:20250716T135601Z
UID:1077-1754820000-1754825400@musicvalleycowboychurch.com
SUMMARY:Paul Williams
DESCRIPTION:
URL:https://musicvalleycowboychurch.com/event/paul-williams/
LOCATION:Music Valley Cowboy Church\, 2416 MUSIC VALLEY DRIVE\, Nashville\, TN\, 37214\, United States
END:VEVENT
BEGIN:VEVENT
DTSTART;TZID=America/Chicago:20250803T100000
DTEND;TZID=America/Chicago:20250803T113000
DTSTAMP:20260420T164736
CREATED:20250716T135513Z
LAST-MODIFIED:20250716T135513Z
UID:1075-1754215200-1754220600@musicvalleycowboychurch.com
SUMMARY:Anthony Jones
DESCRIPTION:
URL:https://musicvalleycowboychurch.com/event/anthony-jones/
LOCATION:Music Valley Cowboy Church\, 2416 MUSIC VALLEY DRIVE\, Nashville\, TN\, 37214\, United States
END:VEVENT
BEGIN:VEVENT
DTSTART;TZID=America/Chicago:20250727T100000
DTEND;TZID=America/Chicago:20250727T113000
DTSTAMP:20260420T164736
CREATED:20250716T135418Z
LAST-MODIFIED:20250716T135418Z
UID:1073-1753610400-1753615800@musicvalleycowboychurch.com
SUMMARY:Eden
DESCRIPTION:
URL:https://musicvalleycowboychurch.com/event/eden/
LOCATION:Music Valley Cowboy Church\, 2416 MUSIC VALLEY DRIVE\, Nashville\, TN\, 37214\, United States
END:VEVENT
BEGIN:VEVENT
DTSTART;TZID=America/Chicago:20250720T100000
DTEND;TZID=America/Chicago:20250720T113000
DTSTAMP:20260420T164736
CREATED:20250716T135301Z
LAST-MODIFIED:20250716T135301Z
UID:1069-1753005600-1753011000@musicvalleycowboychurch.com
SUMMARY:Heart of Texas Tour: Featuring  Tony Booth & Allison Crowson
DESCRIPTION:
URL:https://musicvalleycowboychurch.com/event/heart-of-texas-tour-featuring-tony-booth-allison-crowson/
LOCATION:Music Valley Cowboy Church\, 2416 MUSIC VALLEY DRIVE\, Nashville\, TN\, 37214\, United States
END:VEVENT
END:VCALENDAR