BEGIN:VCALENDAR
VERSION:2.0
PRODID:-//Music Valley Cowboy Church - ECPv6.15.20//NONSGML v1.0//EN
CALSCALE:GREGORIAN
METHOD:PUBLISH
X-ORIGINAL-URL:https://musicvalleycowboychurch.com
X-WR-CALDESC:Events for Music Valley Cowboy Church
REFRESH-INTERVAL;VALUE=DURATION:PT1H
X-Robots-Tag:noindex
X-PUBLISHED-TTL:PT1H
BEGIN:VTIMEZONE
TZID:America/Chicago
BEGIN:DAYLIGHT
TZOFFSETFROM:-0600
TZOFFSETTO:-0500
TZNAME:CDT
DTSTART:20240310T080000
END:DAYLIGHT
BEGIN:STANDARD
TZOFFSETFROM:-0500
TZOFFSETTO:-0600
TZNAME:CST
DTSTART:20241103T070000
END:STANDARD
BEGIN:DAYLIGHT
TZOFFSETFROM:-0600
TZOFFSETTO:-0500
TZNAME:CDT
DTSTART:20250309T080000
END:DAYLIGHT
BEGIN:STANDARD
TZOFFSETFROM:-0500
TZOFFSETTO:-0600
TZNAME:CST
DTSTART:20251102T070000
END:STANDARD
BEGIN:DAYLIGHT
TZOFFSETFROM:-0600
TZOFFSETTO:-0500
TZNAME:CDT
DTSTART:20260308T080000
END:DAYLIGHT
BEGIN:STANDARD
TZOFFSETFROM:-0500
TZOFFSETTO:-0600
TZNAME:CST
DTSTART:20261101T070000
END:STANDARD
BEGIN:DAYLIGHT
TZOFFSETFROM:-0600
TZOFFSETTO:-0500
TZNAME:CDT
DTSTART:20270314T080000
END:DAYLIGHT
BEGIN:STANDARD
TZOFFSETFROM:-0500
TZOFFSETTO:-0600
TZNAME:CST
DTSTART:20271107T070000
END:STANDARD
END:VTIMEZONE
BEGIN:VEVENT
DTSTART;TZID=America/Chicago:20260419T100000
DTEND;TZID=America/Chicago:20260419T113000
DTSTAMP:20260420T141405
CREATED:20260303T234430Z
LAST-MODIFIED:20260303T234430Z
UID:1206-1776592800-1776598200@musicvalleycowboychurch.com
SUMMARY:Jeff Chase
DESCRIPTION:
URL:https://musicvalleycowboychurch.com/event/jeff-chase/
LOCATION:Music Valley Cowboy Church\, 2416 MUSIC VALLEY DRIVE\, Nashville\, TN\, 37214\, United States
END:VEVENT
BEGIN:VEVENT
DTSTART;TZID=America/Chicago:20260412T100000
DTEND;TZID=America/Chicago:20260412T113000
DTSTAMP:20260420T141405
CREATED:20260303T234045Z
LAST-MODIFIED:20260303T234045Z
UID:1204-1775988000-1775993400@musicvalleycowboychurch.com
SUMMARY:Fred Winston
DESCRIPTION:
URL:https://musicvalleycowboychurch.com/event/fred-winston/
LOCATION:Music Valley Cowboy Church\, 2416 MUSIC VALLEY DRIVE\, Nashville\, TN\, 37214\, United States
END:VEVENT
BEGIN:VEVENT
DTSTART;TZID=America/Chicago:20260405T100000
DTEND;TZID=America/Chicago:20260405T113000
DTSTAMP:20260420T141405
CREATED:20260303T234008Z
LAST-MODIFIED:20260323T122134Z
UID:1201-1775383200-1775388600@musicvalleycowboychurch.com
SUMMARY:Easter Sunday
DESCRIPTION:
URL:https://musicvalleycowboychurch.com/event/easter-sunday/
LOCATION:Music Valley Cowboy Church\, 2416 MUSIC VALLEY DRIVE\, Nashville\, TN\, 37214\, United States
ATTACH;FMTTYPE=image/webp:https://musicvalleycowboychurch.com/wp-content/uploads/2026/03/last_supper_jesus_rane.webp
END:VEVENT
BEGIN:VEVENT
DTSTART;TZID=America/Chicago:20260329T100000
DTEND;TZID=America/Chicago:20260329T113000
DTSTAMP:20260420T141405
CREATED:20260119T121745Z
LAST-MODIFIED:20260303T233721Z
UID:1193-1774778400-1774783800@musicvalleycowboychurch.com
SUMMARY:Linda Lou Viar
DESCRIPTION:
URL:https://musicvalleycowboychurch.com/event/paula-slow-2/
LOCATION:Music Valley Cowboy Church\, 2416 MUSIC VALLEY DRIVE\, Nashville\, TN\, 37214\, United States
END:VEVENT
BEGIN:VEVENT
DTSTART;TZID=America/Chicago:20260322T100000
DTEND;TZID=America/Chicago:20260322T113000
DTSTAMP:20260420T141405
CREATED:20260119T121659Z
LAST-MODIFIED:20260119T121659Z
UID:1191-1774173600-1774179000@musicvalleycowboychurch.com
SUMMARY:Christine Scott
DESCRIPTION:
URL:https://musicvalleycowboychurch.com/event/christine-scott/
LOCATION:Music Valley Cowboy Church\, 2416 MUSIC VALLEY DRIVE\, Nashville\, TN\, 37214\, United States
END:VEVENT
BEGIN:VEVENT
DTSTART;TZID=America/Chicago:20260315T100000
DTEND;TZID=America/Chicago:20260315T113000
DTSTAMP:20260420T141405
CREATED:20260119T121618Z
LAST-MODIFIED:20260119T121618Z
UID:1189-1773568800-1773574200@musicvalleycowboychurch.com
SUMMARY:David Tims
DESCRIPTION:
URL:https://musicvalleycowboychurch.com/event/david-tims/
LOCATION:Music Valley Cowboy Church\, 2416 MUSIC VALLEY DRIVE\, Nashville\, TN\, 37214\, United States
END:VEVENT
BEGIN:VEVENT
DTSTART;TZID=America/Chicago:20260308T100000
DTEND;TZID=America/Chicago:20260308T113000
DTSTAMP:20260420T141405
CREATED:20260119T121525Z
LAST-MODIFIED:20260119T121525Z
UID:1187-1772964000-1772969400@musicvalleycowboychurch.com
SUMMARY:Lee Newton
DESCRIPTION:
URL:https://musicvalleycowboychurch.com/event/lee-newton/
LOCATION:Music Valley Cowboy Church\, 2416 MUSIC VALLEY DRIVE\, Nashville\, TN\, 37214\, United States
END:VEVENT
BEGIN:VEVENT
DTSTART;TZID=America/Chicago:20260301T100000
DTEND;TZID=America/Chicago:20260301T113000
DTSTAMP:20260420T141405
CREATED:20260119T121436Z
LAST-MODIFIED:20260119T121436Z
UID:1185-1772359200-1772364600@musicvalleycowboychurch.com
SUMMARY:Kevin Shorey
DESCRIPTION:
URL:https://musicvalleycowboychurch.com/event/kevin-shorey/
LOCATION:Music Valley Cowboy Church\, 2416 MUSIC VALLEY DRIVE\, Nashville\, TN\, 37214\, United States
END:VEVENT
BEGIN:VEVENT
DTSTART;TZID=America/Chicago:20260222T100000
DTEND;TZID=America/Chicago:20260222T113000
DTSTAMP:20260420T141405
CREATED:20260119T121351Z
LAST-MODIFIED:20260119T121351Z
UID:1183-1771754400-1771759800@musicvalleycowboychurch.com
SUMMARY:The Scotts
DESCRIPTION:
URL:https://musicvalleycowboychurch.com/event/the-scotts/
LOCATION:Music Valley Cowboy Church\, 2416 MUSIC VALLEY DRIVE\, Nashville\, TN\, 37214\, United States
END:VEVENT
BEGIN:VEVENT
DTSTART;TZID=America/Chicago:20260215T100000
DTEND;TZID=America/Chicago:20260215T113000
DTSTAMP:20260420T141405
CREATED:20260119T121303Z
LAST-MODIFIED:20260119T121907Z
UID:1181-1771149600-1771155000@musicvalleycowboychurch.com
SUMMARY:Bennett Hall Band
DESCRIPTION:
URL:https://musicvalleycowboychurch.com/event/bennett-hall-band/
LOCATION:Music Valley Cowboy Church\, 2416 MUSIC VALLEY DRIVE\, Nashville\, TN\, 37214\, United States
END:VEVENT
BEGIN:VEVENT
DTSTART;TZID=America/Chicago:20260208T100000
DTEND;TZID=America/Chicago:20260208T113000
DTSTAMP:20260420T141405
CREATED:20260119T121225Z
LAST-MODIFIED:20260119T121225Z
UID:1179-1770544800-1770550200@musicvalleycowboychurch.com
SUMMARY:Aubry Dittmar (4th runner up in The Voice)
DESCRIPTION:
URL:https://musicvalleycowboychurch.com/event/aubry-dittmar-4th-runner-up-in-the-voice/
LOCATION:Music Valley Cowboy Church\, 2416 MUSIC VALLEY DRIVE\, Nashville\, TN\, 37214\, United States
END:VEVENT
BEGIN:VEVENT
DTSTART;TZID=America/Chicago:20260201T100000
DTEND;TZID=America/Chicago:20260201T113000
DTSTAMP:20260420T141405
CREATED:20260119T121129Z
LAST-MODIFIED:20260119T121129Z
UID:1177-1769940000-1769945400@musicvalleycowboychurch.com
SUMMARY:Anita Anderson
DESCRIPTION:
URL:https://musicvalleycowboychurch.com/event/anita-anderson/
LOCATION:Music Valley Cowboy Church\, 2416 MUSIC VALLEY DRIVE\, Nashville\, TN\, 37214\, United States
END:VEVENT
BEGIN:VEVENT
DTSTART;TZID=America/Chicago:20260125T100000
DTEND;TZID=America/Chicago:20260125T113000
DTSTAMP:20260420T141405
CREATED:20251228T131457Z
LAST-MODIFIED:20251228T131457Z
UID:1173-1769335200-1769340600@musicvalleycowboychurch.com
SUMMARY:Full Circle w/ Cindy Dewey
DESCRIPTION:
URL:https://musicvalleycowboychurch.com/event/full-circle-w-cindy-dewey/
LOCATION:Music Valley Cowboy Church\, 2416 MUSIC VALLEY DRIVE\, Nashville\, TN\, 37214\, United States
END:VEVENT
BEGIN:VEVENT
DTSTART;TZID=America/Chicago:20260118T100000
DTEND;TZID=America/Chicago:20260118T113000
DTSTAMP:20260420T141405
CREATED:20251228T131414Z
LAST-MODIFIED:20251228T131414Z
UID:1171-1768730400-1768735800@musicvalleycowboychurch.com
SUMMARY:Cody McCarver
DESCRIPTION:
URL:https://musicvalleycowboychurch.com/event/cody-mccarver/
LOCATION:TN
END:VEVENT
BEGIN:VEVENT
DTSTART;TZID=America/Chicago:20260111T100000
DTEND;TZID=America/Chicago:20260111T113000
DTSTAMP:20260420T141405
CREATED:20251228T131237Z
LAST-MODIFIED:20251228T131308Z
UID:1168-1768125600-1768131000@musicvalleycowboychurch.com
SUMMARY:Bobby Grige & Pam Weston
DESCRIPTION:
URL:https://musicvalleycowboychurch.com/event/bobby-grige/
LOCATION:Music Valley Cowboy Church\, 2416 MUSIC VALLEY DRIVE\, Nashville\, TN\, 37214\, United States
END:VEVENT
BEGIN:VEVENT
DTSTART;TZID=America/Chicago:20260104T100000
DTEND;TZID=America/Chicago:20260104T113000
DTSTAMP:20260420T141405
CREATED:20251228T131100Z
LAST-MODIFIED:20251228T131159Z
UID:1166-1767520800-1767526200@musicvalleycowboychurch.com
SUMMARY:Bobby Hayden
DESCRIPTION:
URL:https://musicvalleycowboychurch.com/event/bobby-hayden/
LOCATION:Music Valley Cowboy Church\, 2416 MUSIC VALLEY DRIVE\, Nashville\, TN\, 37214\, United States
END:VEVENT
BEGIN:VEVENT
DTSTART;TZID=America/Chicago:20251221T100000
DTEND;TZID=America/Chicago:20251221T113000
DTSTAMP:20260420T141405
CREATED:20251018T143742Z
LAST-MODIFIED:20251018T143742Z
UID:1144-1766311200-1766316600@musicvalleycowboychurch.com
SUMMARY:Ashton Evans & Dustin Worley
DESCRIPTION:
URL:https://musicvalleycowboychurch.com/event/ashton-evans-dustin-worley/
LOCATION:Music Valley Cowboy Church\, 2416 MUSIC VALLEY DRIVE\, Nashville\, TN\, 37214\, United States
END:VEVENT
BEGIN:VEVENT
DTSTART;TZID=America/Chicago:20251214T100000
DTEND;TZID=America/Chicago:20251214T113000
DTSTAMP:20260420T141405
CREATED:20250911T203857Z
LAST-MODIFIED:20251019T122222Z
UID:1127-1765706400-1765711800@musicvalleycowboychurch.com
SUMMARY:Tonya Krauss\, Leon Everette\, & Renee Jones
DESCRIPTION:
URL:https://musicvalleycowboychurch.com/event/tonya-krauss/
LOCATION:Music Valley Cowboy Church\, 2416 MUSIC VALLEY DRIVE\, Nashville\, TN\, 37214\, United States
END:VEVENT
BEGIN:VEVENT
DTSTART;TZID=America/Chicago:20251207T100000
DTEND;TZID=America/Chicago:20251207T113000
DTSTAMP:20260420T141405
CREATED:20250911T203653Z
LAST-MODIFIED:20250911T204232Z
UID:1125-1765101600-1765107000@musicvalleycowboychurch.com
SUMMARY:Jamie and Rebecca Bagwell
DESCRIPTION:
URL:https://musicvalleycowboychurch.com/event/jamie-and-rebecca-bagwell/
LOCATION:Music Valley Cowboy Church\, 2416 MUSIC VALLEY DRIVE\, Nashville\, TN\, 37214\, United States
END:VEVENT
BEGIN:VEVENT
DTSTART;TZID=America/Chicago:20251130T100000
DTEND;TZID=America/Chicago:20251130T113000
DTSTAMP:20260420T141405
CREATED:20250901T001655Z
LAST-MODIFIED:20251018T143546Z
UID:1119-1764496800-1764502200@musicvalleycowboychurch.com
SUMMARY:Joe Arview\, Missy Dunaway\, & Renee Jones
DESCRIPTION:
URL:https://musicvalleycowboychurch.com/event/joe-arview/
LOCATION:Music Valley Cowboy Church\, 2416 MUSIC VALLEY DRIVE\, Nashville\, TN\, 37214\, United States
END:VEVENT
BEGIN:VEVENT
DTSTART;TZID=America/Chicago:20251123T100000
DTEND;TZID=America/Chicago:20251123T113000
DTSTAMP:20260420T141405
CREATED:20250901T001447Z
LAST-MODIFIED:20250901T001447Z
UID:1114-1763892000-1763897400@musicvalleycowboychurch.com
SUMMARY:Pam Weston
DESCRIPTION:
URL:https://musicvalleycowboychurch.com/event/pam-weston/
LOCATION:Music Valley Cowboy Church\, 2416 MUSIC VALLEY DRIVE\, Nashville\, TN\, 37214\, United States
END:VEVENT
BEGIN:VEVENT
DTSTART;TZID=America/Chicago:20251116T100000
DTEND;TZID=America/Chicago:20251116T113000
DTSTAMP:20260420T141405
CREATED:20250901T001350Z
LAST-MODIFIED:20250901T001622Z
UID:1112-1763287200-1763292600@musicvalleycowboychurch.com
SUMMARY:Linda Lou Viar & Taylon Hope
DESCRIPTION:
URL:https://musicvalleycowboychurch.com/event/linda-lou-viar/
LOCATION:Music Valley Cowboy Church\, 2416 MUSIC VALLEY DRIVE\, Nashville\, TN\, 37214\, United States
END:VEVENT
BEGIN:VEVENT
DTSTART;TZID=America/Chicago:20251109T100000
DTEND;TZID=America/Chicago:20251109T113000
DTSTAMP:20260420T141405
CREATED:20250901T001212Z
LAST-MODIFIED:20251103T164046Z
UID:1110-1762682400-1762687800@musicvalleycowboychurch.com
SUMMARY:Melanie Walker
DESCRIPTION:
URL:https://musicvalleycowboychurch.com/event/chris-williams/
LOCATION:Music Valley Cowboy Church\, 2416 MUSIC VALLEY DRIVE\, Nashville\, TN\, 37214\, United States
END:VEVENT
BEGIN:VEVENT
DTSTART;TZID=America/Chicago:20251102T100000
DTEND;TZID=America/Chicago:20251102T113000
DTSTAMP:20260420T141405
CREATED:20250901T001049Z
LAST-MODIFIED:20250901T001502Z
UID:1108-1762077600-1762083000@musicvalleycowboychurch.com
SUMMARY:Jordan Poole\, Revele and Gio
DESCRIPTION:
URL:https://musicvalleycowboychurch.com/event/jordan-poole/
LOCATION:Music Valley Cowboy Church\, 2416 MUSIC VALLEY DRIVE\, Nashville\, TN\, 37214\, United States
END:VEVENT
BEGIN:VEVENT
DTSTART;VALUE=DATE:20251026
DTEND;VALUE=DATE:20251027
DTSTAMP:20260420T141405
CREATED:20250901T000758Z
LAST-MODIFIED:20250911T203335Z
UID:1105-1761436800-1761523199@musicvalleycowboychurch.com
SUMMARY:Irish Tour: Featuring Robert Mizzell & David Timms
DESCRIPTION:
URL:https://musicvalleycowboychurch.com/event/david-timms/
LOCATION:Music Valley Cowboy Church\, 2416 MUSIC VALLEY DRIVE\, Nashville\, TN\, 37214\, United States
END:VEVENT
BEGIN:VEVENT
DTSTART;TZID=America/Chicago:20251019T100000
DTEND;TZID=America/Chicago:20251019T113000
DTSTAMP:20260420T141405
CREATED:20250716T140301Z
LAST-MODIFIED:20251018T143445Z
UID:1093-1760868000-1760873400@musicvalleycowboychurch.com
SUMMARY:Dedication service for Bob Bayliss our MVCC  Sheriff and Marshal: with Vicki Lynn & Fred Winston
DESCRIPTION:
URL:https://musicvalleycowboychurch.com/event/irish-tour-featuring-robert-mizzell/
LOCATION:Music Valley Cowboy Church\, 2416 MUSIC VALLEY DRIVE\, Nashville\, TN\, 37214\, United States
END:VEVENT
BEGIN:VEVENT
DTSTART;TZID=America/Chicago:20251012T100000
DTEND;TZID=America/Chicago:20251012T113000
DTSTAMP:20260420T141405
CREATED:20250716T140200Z
LAST-MODIFIED:20250911T203449Z
UID:1091-1760263200-1760268600@musicvalleycowboychurch.com
SUMMARY:Irish Tour: Featuring Collin Elliott & Misa Tours
DESCRIPTION:
URL:https://musicvalleycowboychurch.com/event/irish-tour-featuring-collin-elliott-claire-cunningham/
LOCATION:Music Valley Cowboy Church\, 2416 MUSIC VALLEY DRIVE\, Nashville\, TN\, 37214\, United States
END:VEVENT
BEGIN:VEVENT
DTSTART;TZID=America/Chicago:20251005T100000
DTEND;TZID=America/Chicago:20251005T113000
DTSTAMP:20260420T141405
CREATED:20250716T140006Z
LAST-MODIFIED:20250716T140006Z
UID:1089-1759658400-1759663800@musicvalleycowboychurch.com
SUMMARY:Blood Bought
DESCRIPTION:
URL:https://musicvalleycowboychurch.com/event/blood-bought/
LOCATION:Music Valley Cowboy Church\, 2416 MUSIC VALLEY DRIVE\, Nashville\, TN\, 37214\, United States
END:VEVENT
BEGIN:VEVENT
DTSTART;TZID=America/Chicago:20250928T100000
DTEND;TZID=America/Chicago:20250928T113000
DTSTAMP:20260420T141405
CREATED:20250716T135934Z
LAST-MODIFIED:20250716T135934Z
UID:1087-1759053600-1759059000@musicvalleycowboychurch.com
SUMMARY:Danny Jones
DESCRIPTION:
URL:https://musicvalleycowboychurch.com/event/danny-jones/
LOCATION:Music Valley Cowboy Church\, 2416 MUSIC VALLEY DRIVE\, Nashville\, TN\, 37214\, United States
END:VEVENT
BEGIN:VEVENT
DTSTART;TZID=America/Chicago:20250921T100000
DTEND;TZID=America/Chicago:20250921T113000
DTSTAMP:20260420T141405
CREATED:20250716T135844Z
LAST-MODIFIED:20250716T135844Z
UID:1085-1758448800-1758454200@musicvalleycowboychurch.com
SUMMARY:Vicki Lynn
DESCRIPTION:
URL:https://musicvalleycowboychurch.com/event/vicki-lynn/
LOCATION:Music Valley Cowboy Church\, 2416 MUSIC VALLEY DRIVE\, Nashville\, TN\, 37214\, United States
END:VEVENT
END:VCALENDAR